BEGIN:VCALENDAR
VERSION:2.0
PRODID:-//Global Business Council (GBC) - ECPv6.0.11//NONSGML v1.0//EN
CALSCALE:GREGORIAN
METHOD:PUBLISH
X-ORIGINAL-URL:https://gbc1.net
X-WR-CALDESC:Events for Global Business Council (GBC)
REFRESH-INTERVAL;VALUE=DURATION:PT1H
X-Robots-Tag:noindex
X-PUBLISHED-TTL:PT1H
BEGIN:VTIMEZONE
TZID:Asia/Dubai
BEGIN:STANDARD
TZOFFSETFROM:+0400
TZOFFSETTO:+0400
TZNAME:+04
DTSTART:20240101T000000
END:STANDARD
END:VTIMEZONE
BEGIN:VEVENT
DTSTART;TZID=Asia/Dubai:20241127T000000
DTEND;TZID=Asia/Dubai:20241129T235959
DTSTAMP:20260422T050557
CREATED:20241113T123600Z
LAST-MODIFIED:20241213T124305Z
UID:16206-1732665600-1732924799@gbc1.net
SUMMARY:9th African SEZ Annual Meeting
DESCRIPTION:Building Resilient\, Inclusive & Sustainable Economies: The Role of African SEZ in Attractng Impactful Investments and Redefining Competitiveness
URL:https://gbc1.net/index.php/event/9th-african-sez-annual-meeting/
CATEGORIES:African
ATTACH;FMTTYPE=image/jpeg:https://gbc1.net/wp-content/uploads/2024/12/Banner-01b-jpg.webp
END:VEVENT
END:VCALENDAR