BEGIN:VCALENDAR
VERSION:2.0
PRODID:-//Global Business Council (GBC) - ECPv6.0.11//NONSGML v1.0//EN
CALSCALE:GREGORIAN
METHOD:PUBLISH
X-WR-CALNAME:Global Business Council (GBC)
X-ORIGINAL-URL:https://gbc1.net
X-WR-CALDESC:Events for Global Business Council (GBC)
REFRESH-INTERVAL;VALUE=DURATION:PT1H
X-Robots-Tag:noindex
X-PUBLISHED-TTL:PT1H
BEGIN:VTIMEZONE
TZID:Asia/Dubai
BEGIN:STANDARD
TZOFFSETFROM:+0400
TZOFFSETTO:+0400
TZNAME:+04
DTSTART:20250101T000000
END:STANDARD
END:VTIMEZONE
BEGIN:VEVENT
DTSTART;TZID=Asia/Dubai:20251006T000000
DTEND;TZID=Asia/Dubai:20251009T235959
DTSTAMP:20260421T120416
CREATED:20250916T035900Z
LAST-MODIFIED:20251011T040548Z
UID:27308-1759708800-1760054399@gbc1.net
SUMMARY:24th COMESA Summit 2025
DESCRIPTION:Leveraging Digitalization to Deepen Regional Value Chains for Sustainable and Inclusive Growth
URL:https://gbc1.net/index.php/event/24th-comesa-summit-2025/
CATEGORIES:African
ATTACH;FMTTYPE=image/jpeg:https://gbc1.net/wp-content/uploads/2025/10/COMESA-01b-jpg.webp
END:VEVENT
BEGIN:VEVENT
DTSTART;TZID=Asia/Dubai:20251014T000000
DTEND;TZID=Asia/Dubai:20251015T235959
DTSTAMP:20260421T120416
CREATED:20250319T144547Z
LAST-MODIFIED:20250319T145105Z
UID:19853-1760400000-1760572799@gbc1.net
SUMMARY:AFSIC Investing in Africa Conference & Expo 2025
DESCRIPTION:
URL:https://gbc1.net/index.php/event/afsic-investing-in-africa-conference-expo-2025/
CATEGORIES:African
ATTACH;FMTTYPE=image/jpeg:https://gbc1.net/wp-content/uploads/2025/03/Banner-W-jpg.webp
END:VEVENT
BEGIN:VEVENT
DTSTART;TZID=Asia/Dubai:20251028T000000
DTEND;TZID=Asia/Dubai:20251031T235959
DTSTAMP:20260421T120416
CREATED:20251001T081221Z
LAST-MODIFIED:20251009T112138Z
UID:27236-1761609600-1761955199@gbc1.net
SUMMARY:3rd Financing Summit for Africa's Infrastructure Development 2025
DESCRIPTION:
URL:https://gbc1.net/index.php/event/3rd-financing-summit-for-africas-infrastructure-development-2025/
CATEGORIES:African
ATTACH;FMTTYPE=image/jpeg:https://gbc1.net/wp-content/uploads/2025/10/FSAI-W-jpg.webp
END:VEVENT
END:VCALENDAR