BEGIN:VCALENDAR
VERSION:2.0
PRODID:-//Global Business Council (GBC) - ECPv6.0.11//NONSGML v1.0//EN
CALSCALE:GREGORIAN
METHOD:PUBLISH
X-WR-CALNAME:Global Business Council (GBC)
X-ORIGINAL-URL:https://gbc1.net
X-WR-CALDESC:Events for Global Business Council (GBC)
REFRESH-INTERVAL;VALUE=DURATION:PT1H
X-Robots-Tag:noindex
X-PUBLISHED-TTL:PT1H
BEGIN:VTIMEZONE
TZID:Asia/Dubai
BEGIN:STANDARD
TZOFFSETFROM:+0400
TZOFFSETTO:+0400
TZNAME:+04
DTSTART:20260101T000000
END:STANDARD
END:VTIMEZONE
BEGIN:VEVENT
DTSTART;TZID=Asia/Dubai:20260303T000000
DTEND;TZID=Asia/Dubai:20260305T235959
DTSTAMP:20260421T033715
CREATED:20260223T184311Z
LAST-MODIFIED:20260303T184722Z
UID:32818-1772496000-1772755199@gbc1.net
SUMMARY:Africa Energy Indaba 2026
DESCRIPTION:Powering Africa Energy Future
URL:https://gbc1.net/index.php/event/africa-energy-indaba-2026/
CATEGORIES:African
ATTACH;FMTTYPE=image/jpeg:https://gbc1.net/wp-content/uploads/2026/03/AEI-W-jpg.webp
END:VEVENT
BEGIN:VEVENT
DTSTART;TZID=Asia/Dubai:20260307T000000
DTEND;TZID=Asia/Dubai:20260307T235959
DTSTAMP:20260421T033715
CREATED:20260303T182909Z
LAST-MODIFIED:20260303T183731Z
UID:32813-1772841600-1772927999@gbc1.net
SUMMARY:25th East African Community (EAC) Summit 2026
DESCRIPTION:Deepening Integration for Improved Livelihoods of EAC Citizens
URL:https://gbc1.net/index.php/event/25th-east-african-community-eac-summit-2026/
CATEGORIES:African
ATTACH;FMTTYPE=image/jpeg:https://gbc1.net/wp-content/uploads/2026/03/EAC-W-jpg.webp
END:VEVENT
BEGIN:VEVENT
DTSTART;TZID=Asia/Dubai:20260318T000000
DTEND;TZID=Asia/Dubai:20260318T235959
DTSTAMP:20260421T033715
CREATED:20260303T185151Z
LAST-MODIFIED:20260303T185217Z
UID:32823-1773792000-1773878399@gbc1.net
SUMMARY:Africa Investment Summit 2026
DESCRIPTION:
URL:https://gbc1.net/index.php/event/africa-investment-summit-2026/
CATEGORIES:African
ATTACH;FMTTYPE=image/jpeg:https://gbc1.net/wp-content/uploads/2026/03/AIS-b-jpg.webp
END:VEVENT
BEGIN:VEVENT
DTSTART;TZID=Asia/Dubai:20260327T000000
DTEND;TZID=Asia/Dubai:20260327T235959
DTSTAMP:20260421T033715
CREATED:20260220T070921Z
LAST-MODIFIED:20260220T071438Z
UID:32319-1774569600-1774655999@gbc1.net
SUMMARY:Africa Green Industrialization Initiative (AGII) Forum 2026
DESCRIPTION:
URL:https://gbc1.net/index.php/event/africa-green-industrialization-initiative-agii-forum-2026/
CATEGORIES:African
ATTACH;FMTTYPE=image/jpeg:https://gbc1.net/wp-content/uploads/2026/02/AGII-b-jpg.webp
END:VEVENT
END:VCALENDAR