BEGIN:VCALENDAR
VERSION:2.0
PRODID:-//Global Business Council (GBC) - ECPv6.0.11//NONSGML v1.0//EN
CALSCALE:GREGORIAN
METHOD:PUBLISH
X-ORIGINAL-URL:https://gbc1.net
X-WR-CALDESC:Events for Global Business Council (GBC)
REFRESH-INTERVAL;VALUE=DURATION:PT1H
X-Robots-Tag:noindex
X-PUBLISHED-TTL:PT1H
BEGIN:VTIMEZONE
TZID:UTC
BEGIN:STANDARD
TZOFFSETFROM:+0000
TZOFFSETTO:+0000
TZNAME:UTC
DTSTART:20230101T000000
END:STANDARD
END:VTIMEZONE
BEGIN:VEVENT
DTSTART;TZID=UTC:20230206T000000
DTEND;TZID=UTC:20230209T235959
DTSTAMP:20260423T154928
CREATED:20230213T023400Z
LAST-MODIFIED:20260318T050545Z
UID:1529-1675641600-1675987199@gbc1.net
SUMMARY:29th African Mining Indaba 2023
DESCRIPTION:Unlocking African Mining Investment: Stability\, Security and Supply
URL:https://gbc1.net/index.php/event/29th-african-mining-indaba-2023/
CATEGORIES:African
ATTACH;FMTTYPE=image/jpeg:https://gbc1.net/wp-content/uploads/2026/03/Indaba-2023-b-jpg.webp
END:VEVENT
END:VCALENDAR