BEGIN:VCALENDAR
VERSION:2.0
PRODID:-//Global Business Council (GBC) - ECPv6.0.11//NONSGML v1.0//EN
CALSCALE:GREGORIAN
METHOD:PUBLISH
X-WR-CALNAME:Global Business Council (GBC)
X-ORIGINAL-URL:https://gbc1.net
X-WR-CALDESC:Events for Global Business Council (GBC)
REFRESH-INTERVAL;VALUE=DURATION:PT1H
X-Robots-Tag:noindex
X-PUBLISHED-TTL:PT1H
BEGIN:VTIMEZONE
TZID:UTC
BEGIN:STANDARD
TZOFFSETFROM:+0000
TZOFFSETTO:+0000
TZNAME:UTC
DTSTART:20230101T000000
END:STANDARD
END:VTIMEZONE
BEGIN:VEVENT
DTSTART;TZID=UTC:20231009T000000
DTEND;TZID=UTC:20231010T235959
DTSTAMP:20260423T024728
CREATED:20230907T171130Z
LAST-MODIFIED:20250319T145541Z
UID:5563-1696809600-1696982399@gbc1.net
SUMMARY:AFSIC Investing in Africa Conference & Expo 2023
DESCRIPTION:
URL:https://gbc1.net/index.php/event/afsic-investing-in-africa-conference-expo-2023/
CATEGORIES:African
ATTACH;FMTTYPE=image/jpeg:https://gbc1.net/wp-content/uploads/2025/03/AFSIC-2023-W-jpg.webp
END:VEVENT
END:VCALENDAR