BEGIN:VCALENDAR
VERSION:2.0
PRODID:-//Global Business Council (GBC) - ECPv6.0.11//NONSGML v1.0//EN
CALSCALE:GREGORIAN
METHOD:PUBLISH
X-WR-CALNAME:Global Business Council (GBC)
X-ORIGINAL-URL:https://gbc1.net
X-WR-CALDESC:Events for Global Business Council (GBC)
REFRESH-INTERVAL;VALUE=DURATION:PT1H
X-Robots-Tag:noindex
X-PUBLISHED-TTL:PT1H
BEGIN:VTIMEZONE
TZID:Asia/Dubai
BEGIN:STANDARD
TZOFFSETFROM:+0400
TZOFFSETTO:+0400
TZNAME:+04
DTSTART:20250101T000000
END:STANDARD
END:VTIMEZONE
BEGIN:VEVENT
DTSTART;TZID=Asia/Dubai:20250512T000000
DTEND;TZID=Asia/Dubai:20250513T235959
DTSTAMP:20260421T211309
CREATED:20250430T040630Z
LAST-MODIFIED:20250430T041014Z
UID:21094-1747008000-1747180799@gbc1.net
SUMMARY:Africa CEO Forum 2025
DESCRIPTION:
URL:https://gbc1.net/index.php/event/africa-ceo-forum-2025/
CATEGORIES:African
ATTACH;FMTTYPE=image/jpeg:https://gbc1.net/wp-content/uploads/2025/04/africa-ceo-forum-W-jpg.webp
END:VEVENT
BEGIN:VEVENT
DTSTART;TZID=Asia/Dubai:20250513T000000
DTEND;TZID=Asia/Dubai:20250514T235959
DTSTAMP:20260421T211309
CREATED:20250430T125231Z
LAST-MODIFIED:20250430T125654Z
UID:21142-1747094400-1747267199@gbc1.net
SUMMARY:Africa Rail 2025
DESCRIPTION:
URL:https://gbc1.net/index.php/event/africa-rail-2025/
CATEGORIES:African
ATTACH;FMTTYPE=image/jpeg:https://gbc1.net/wp-content/uploads/2025/04/Africa-Rail-Banner-W-jpg.webp
END:VEVENT
BEGIN:VEVENT
DTSTART;TZID=Asia/Dubai:20250513T000000
DTEND;TZID=Asia/Dubai:20250516T235959
DTSTAMP:20260421T211309
CREATED:20250413T161008Z
LAST-MODIFIED:20250413T162201Z
UID:20671-1747094400-1747439999@gbc1.net
SUMMARY:6th Africa Pension Funds and Retirement Summit 2025
DESCRIPTION:Rejuvenating and Reshaping Africa’s Pension Landscape amid Global Uncertainty
URL:https://gbc1.net/index.php/event/6th-africa-pension-funds-and-retirement-summit-2025/
CATEGORIES:African
ATTACH;FMTTYPE=image/jpeg:https://gbc1.net/wp-content/uploads/2025/04/Banner-01b-jpg.webp
END:VEVENT
END:VCALENDAR