BEGIN:VCALENDAR
VERSION:2.0
PRODID:-//Global Business Council (GBC) - ECPv6.0.11//NONSGML v1.0//EN
CALSCALE:GREGORIAN
METHOD:PUBLISH
X-WR-CALNAME:Global Business Council (GBC)
X-ORIGINAL-URL:https://gbc1.net
X-WR-CALDESC:Events for Global Business Council (GBC)
REFRESH-INTERVAL;VALUE=DURATION:PT1H
X-Robots-Tag:noindex
X-PUBLISHED-TTL:PT1H
BEGIN:VTIMEZONE
TZID:Asia/Dubai
BEGIN:STANDARD
TZOFFSETFROM:+0400
TZOFFSETTO:+0400
TZNAME:+04
DTSTART:20250101T000000
END:STANDARD
END:VTIMEZONE
BEGIN:VEVENT
DTSTART;TZID=Asia/Dubai:20250702T000000
DTEND;TZID=Asia/Dubai:20250702T235959
DTSTAMP:20260421T181030
CREATED:20241101T053842Z
LAST-MODIFIED:20250827T173622Z
UID:14882-1751414400-1751500799@gbc1.net
SUMMARY:The Africa Debate London 2025
DESCRIPTION:
URL:https://gbc1.net/index.php/event/the-africa-debate-london-2025/
CATEGORIES:African
ATTACH;FMTTYPE=image/jpeg:https://gbc1.net/wp-content/uploads/2024/11/Banner-b-jpg.webp
END:VEVENT
END:VCALENDAR