BEGIN:VCALENDAR
VERSION:2.0
PRODID:-//Global Business Council (GBC) - ECPv6.0.11//NONSGML v1.0//EN
CALSCALE:GREGORIAN
METHOD:PUBLISH
X-ORIGINAL-URL:https://gbc1.net
X-WR-CALDESC:Events for Global Business Council (GBC)
REFRESH-INTERVAL;VALUE=DURATION:PT1H
X-Robots-Tag:noindex
X-PUBLISHED-TTL:PT1H
BEGIN:VTIMEZONE
TZID:Asia/Dubai
BEGIN:STANDARD
TZOFFSETFROM:+0400
TZOFFSETTO:+0400
TZNAME:+04
DTSTART:20260101T000000
END:STANDARD
END:VTIMEZONE
BEGIN:VEVENT
DTSTART;TZID=Asia/Dubai:20260422T000000
DTEND;TZID=Asia/Dubai:20260423T235959
DTSTAMP:20260420T235312
CREATED:20260204T205956Z
LAST-MODIFIED:20260204T210147Z
UID:31788-1776816000-1776988799@gbc1.net
SUMMARY:Invest in African Energy (IAE) Forum 2026
DESCRIPTION:
URL:https://gbc1.net/index.php/event/invest-in-african-energy-iae-forum-2026/
CATEGORIES:African
ATTACH;FMTTYPE=image/jpeg:https://gbc1.net/wp-content/uploads/2026/02/IAE-W-jpg.webp
END:VEVENT
BEGIN:VEVENT
DTSTART;TZID=Asia/Dubai:20260423T000000
DTEND;TZID=Asia/Dubai:20260424T235959
DTSTAMP:20260420T235312
CREATED:20260318T071637Z
LAST-MODIFIED:20260318T071710Z
UID:33402-1776902400-1777075199@gbc1.net
SUMMARY:Africa Transport and Logistics Indaba 2026
DESCRIPTION:
URL:https://gbc1.net/index.php/event/africa-transport-and-logistics-indaba-2026/
CATEGORIES:African
ATTACH;FMTTYPE=image/jpeg:https://gbc1.net/wp-content/uploads/2026/03/LLZ-b-jpg.webp
END:VEVENT
BEGIN:VEVENT
DTSTART;TZID=Asia/Dubai:20260514T000000
DTEND;TZID=Asia/Dubai:20260515T235959
DTSTAMP:20260420T235312
CREATED:20260411T101857Z
LAST-MODIFIED:20260411T102007Z
UID:34111-1778716800-1778889599@gbc1.net
SUMMARY:Africa CEO Forum 2026
DESCRIPTION:
URL:https://gbc1.net/index.php/event/africa-ceo-forum-2026/
CATEGORIES:African
ATTACH;FMTTYPE=image/jpeg:https://gbc1.net/wp-content/uploads/2026/04/ACF-W-jpg.webp
END:VEVENT
BEGIN:VEVENT
DTSTART;TZID=Asia/Dubai:20260617T000000
DTEND;TZID=Asia/Dubai:20260619T235959
DTSTAMP:20260420T235312
CREATED:20260311T050855Z
LAST-MODIFIED:20260311T051000Z
UID:33168-1781654400-1781913599@gbc1.net
SUMMARY:12th Agritec Africa (Kenya) 2026
DESCRIPTION:
URL:https://gbc1.net/index.php/event/12th-agritec-africa-kenya-2026/
CATEGORIES:African
ATTACH;FMTTYPE=image/jpeg:https://gbc1.net/wp-content/uploads/2026/03/Agritec-W-jpg.webp
END:VEVENT
BEGIN:VEVENT
DTSTART;TZID=Asia/Dubai:20260929T000000
DTEND;TZID=Asia/Dubai:20261003T235959
DTSTAMP:20260420T235312
CREATED:20260311T051942Z
LAST-MODIFIED:20260311T052547Z
UID:33174-1790640000-1791071999@gbc1.net
SUMMARY:Windhoek Industrial and Agricultural Show 2026
DESCRIPTION:
URL:https://gbc1.net/index.php/event/windhoek-industrial-and-agricultural-show-2026/
CATEGORIES:African
ATTACH;FMTTYPE=image/jpeg:https://gbc1.net/wp-content/uploads/2026/03/Windhoek-Show-W-jpg.webp
END:VEVENT
BEGIN:VEVENT
DTSTART;TZID=Asia/Dubai:20261106T000000
DTEND;TZID=Asia/Dubai:20261115T235959
DTSTAMP:20260420T235312
CREATED:20260311T043735Z
LAST-MODIFIED:20260311T051322Z
UID:33161-1793923200-1794787199@gbc1.net
SUMMARY:40th Lagos International Trade Fair (LITF) 2026
DESCRIPTION:Trade\, Growth\, and Global Connection
URL:https://gbc1.net/index.php/event/40th-lagos-international-trade-fair-litf-2026/
CATEGORIES:African
ATTACH;FMTTYPE=image/jpeg:https://gbc1.net/wp-content/uploads/2026/03/LITF-26-W-jpg.webp
END:VEVENT
END:VCALENDAR