BEGIN:VCALENDAR
VERSION:2.0
PRODID:-//Global Business Council (GBC) - ECPv6.0.11//NONSGML v1.0//EN
CALSCALE:GREGORIAN
METHOD:PUBLISH
X-WR-CALNAME:Global Business Council (GBC)
X-ORIGINAL-URL:https://gbc1.net
X-WR-CALDESC:Events for Global Business Council (GBC)
REFRESH-INTERVAL;VALUE=DURATION:PT1H
X-Robots-Tag:noindex
X-PUBLISHED-TTL:PT1H
BEGIN:VTIMEZONE
TZID:UTC
BEGIN:STANDARD
TZOFFSETFROM:+0000
TZOFFSETTO:+0000
TZNAME:UTC
DTSTART:20230101T000000
END:STANDARD
END:VTIMEZONE
BEGIN:VEVENT
DTSTART;TZID=UTC:20230329T000000
DTEND;TZID=UTC:20230330T235959
DTSTAMP:20260423T095722
CREATED:20230422T042723Z
LAST-MODIFIED:20230813T064643Z
UID:2396-1680048000-1680220799@gbc1.net
SUMMARY:US-East Africa Trade & Investment Forum
DESCRIPTION:
URL:https://gbc1.net/index.php/event/us-east-africa-trade-investment-forum/
CATEGORIES:AfricaX
END:VEVENT
END:VCALENDAR