BEGIN:VCALENDAR
VERSION:2.0
PRODID:-//Global Business Council (GBC) - ECPv6.0.11//NONSGML v1.0//EN
CALSCALE:GREGORIAN
METHOD:PUBLISH
X-ORIGINAL-URL:https://gbc1.net
X-WR-CALDESC:Events for Global Business Council (GBC)
REFRESH-INTERVAL;VALUE=DURATION:PT1H
X-Robots-Tag:noindex
X-PUBLISHED-TTL:PT1H
BEGIN:VTIMEZONE
TZID:UTC
BEGIN:STANDARD
TZOFFSETFROM:+0000
TZOFFSETTO:+0000
TZNAME:UTC
DTSTART:20230101T000000
END:STANDARD
END:VTIMEZONE
BEGIN:VEVENT
DTSTART;TZID=UTC:20230629T000000
DTEND;TZID=UTC:20230702T235959
DTSTAMP:20260423T025245
CREATED:20230324T030144Z
LAST-MODIFIED:20230813T052836Z
UID:1973-1687996800-1688342399@gbc1.net
SUMMARY:3rd China-Africa Economic and Trade Expo (CAETE)
DESCRIPTION:Common Development for a Shared Future \n\n\n\nChangsha International Conference Centre\n\n\nCAETE Exhibition Floor Plan
URL:https://gbc1.net/index.php/event/3rd-caete/
CATEGORIES:AfricaX
ATTACH;FMTTYPE=image/jpeg:https://gbc1.net/wp-content/uploads/2023/05/CAETE-jpeg.webp
END:VEVENT
BEGIN:VEVENT
DTSTART;TZID=UTC:20230721T000000
DTEND;TZID=UTC:20230722T235959
DTSTAMP:20260423T025245
CREATED:20230525T134354Z
LAST-MODIFIED:20231103T073701Z
UID:3024-1689897600-1690070399@gbc1.net
SUMMARY:3rd India-Africa Entrepreneurship and Investment Summit
DESCRIPTION:
URL:https://gbc1.net/index.php/event/3rd-india-africa-entrepreneurship-and-investment-summit/
CATEGORIES:AfricaX
ATTACH;FMTTYPE=image/jpeg:https://gbc1.net/wp-content/uploads/2023/05/IAEIS2023-b-500x400-1-jpg.webp
END:VEVENT
BEGIN:VEVENT
DTSTART;TZID=UTC:20230727T000000
DTEND;TZID=UTC:20230728T235959
DTSTAMP:20260423T025245
CREATED:20230108T032403Z
LAST-MODIFIED:20230813T052831Z
UID:776-1690416000-1690588799@gbc1.net
SUMMARY:2nd Russia-Africa Summit 2023
DESCRIPTION:The 2nd Russia-Africa Summit will take place in St Petersburg from 27 to 28 July\, 2023. \n\n\n\nThe key themes of this edition are: \n\n\n\n\nPeople-Oriented Development\n\n\n\nIntegrated Security to Reinforce Sovereignty\n\n\n\nScience and Technology Cooperation\n\n\n\nSocial and Humanitarian Partnership\n\n\n\nMedia Cooperation
URL:https://gbc1.net/index.php/event/2nd-russia-africa-summit-2023/
CATEGORIES:AfricaX
ATTACH;FMTTYPE=image/png:https://gbc1.net/wp-content/uploads/2023/05/Russia-Africa.png
END:VEVENT
END:VCALENDAR