BEGIN:VCALENDAR
VERSION:2.0
PRODID:-//Global Business Council (GBC) - ECPv6.0.11//NONSGML v1.0//EN
CALSCALE:GREGORIAN
METHOD:PUBLISH
X-WR-CALNAME:Global Business Council (GBC)
X-ORIGINAL-URL:https://gbc1.net
X-WR-CALDESC:Events for Global Business Council (GBC)
REFRESH-INTERVAL;VALUE=DURATION:PT1H
X-Robots-Tag:noindex
X-PUBLISHED-TTL:PT1H
BEGIN:VTIMEZONE
TZID:UTC
BEGIN:STANDARD
TZOFFSETFROM:+0000
TZOFFSETTO:+0000
TZNAME:UTC
DTSTART:20230101T000000
END:STANDARD
END:VTIMEZONE
BEGIN:VEVENT
DTSTART;TZID=UTC:20231010T000000
DTEND;TZID=UTC:20231011T235959
DTSTAMP:20260422T215030
CREATED:20231010T024236Z
LAST-MODIFIED:20231103T073623Z
UID:6269-1696896000-1697068799@gbc1.net
SUMMARY:Italy - Africa Business Week (IABW) 2023
DESCRIPTION:Towards a Stable Link Between the Two Shores of the Mediterranean \n\n\n\n#IABW2023
URL:https://gbc1.net/index.php/event/italy-africa-business-week-iabw-2023/
CATEGORIES:AfricaX
ATTACH;FMTTYPE=image/jpeg:https://gbc1.net/wp-content/uploads/2023/10/Banner-575x300-1-jpg.webp
END:VEVENT
BEGIN:VEVENT
DTSTART;TZID=UTC:20231012T000000
DTEND;TZID=UTC:20231013T235959
DTSTAMP:20260422T215030
CREATED:20231017T103123Z
LAST-MODIFIED:20251115T213822Z
UID:6520-1697068800-1697241599@gbc1.net
SUMMARY:4th Turkiye - Africa Business and Economic Forum (TABEF) 2023
DESCRIPTION:
URL:https://gbc1.net/index.php/event/4th-turkiye-africa-business-and-economic-forum-tabef-2023/
CATEGORIES:AfricaX
ATTACH;FMTTYPE=image/jpeg:https://gbc1.net/wp-content/uploads/2023/10/TABEF-Banner-b-jpg.webp
END:VEVENT
BEGIN:VEVENT
DTSTART;TZID=UTC:20231023T000000
DTEND;TZID=UTC:20231024T235959
DTSTAMP:20260422T215030
CREATED:20231106T014357Z
LAST-MODIFIED:20231106T014804Z
UID:7443-1698019200-1698191999@gbc1.net
SUMMARY:16th Senior Officials Meeting of FOCAC
DESCRIPTION:
URL:https://gbc1.net/index.php/event/16th-senior-officials-meeting-of-focac/
CATEGORIES:AfricaX
ATTACH;FMTTYPE=image/jpeg:https://gbc1.net/wp-content/uploads/2023/11/focac-b-jpg.webp
END:VEVENT
END:VCALENDAR