BEGIN:VCALENDAR
VERSION:2.0
PRODID:-//Global Business Council (GBC) - ECPv6.0.11//NONSGML v1.0//EN
CALSCALE:GREGORIAN
METHOD:PUBLISH
X-ORIGINAL-URL:https://gbc1.net
X-WR-CALDESC:Events for Global Business Council (GBC)
REFRESH-INTERVAL;VALUE=DURATION:PT1H
X-Robots-Tag:noindex
X-PUBLISHED-TTL:PT1H
BEGIN:VTIMEZONE
TZID:UTC
BEGIN:STANDARD
TZOFFSETFROM:+0000
TZOFFSETTO:+0000
TZNAME:UTC
DTSTART:20240101T000000
END:STANDARD
END:VTIMEZONE
BEGIN:VEVENT
DTSTART;TZID=UTC:20240128T000000
DTEND;TZID=UTC:20240129T235959
DTSTAMP:20260422T170814
CREATED:20240129T110339Z
LAST-MODIFIED:20240129T110742Z
UID:10027-1706400000-1706572799@gbc1.net
SUMMARY:Italy-Africa Summit
DESCRIPTION:A Bridge for Common Growth
URL:https://gbc1.net/index.php/event/italy-africa-summit/
CATEGORIES:AfricaX
ATTACH;FMTTYPE=image/jpeg:https://gbc1.net/wp-content/uploads/2024/01/IAS2024-01-B-jpg.webp
END:VEVENT
END:VCALENDAR