BEGIN:VCALENDAR
VERSION:2.0
PRODID:-//Global Business Council (GBC) - ECPv6.0.11//NONSGML v1.0//EN
CALSCALE:GREGORIAN
METHOD:PUBLISH
X-ORIGINAL-URL:https://gbc1.net
X-WR-CALDESC:Events for Global Business Council (GBC)
REFRESH-INTERVAL;VALUE=DURATION:PT1H
X-Robots-Tag:noindex
X-PUBLISHED-TTL:PT1H
BEGIN:VTIMEZONE
TZID:UTC
BEGIN:STANDARD
TZOFFSETFROM:+0000
TZOFFSETTO:+0000
TZNAME:UTC
DTSTART:20240101T000000
END:STANDARD
END:VTIMEZONE
BEGIN:VEVENT
DTSTART;TZID=UTC:20240820T000000
DTEND;TZID=UTC:20240822T235959
DTSTAMP:20260422T061904
CREATED:20240516T143059Z
LAST-MODIFIED:20240701T104256Z
UID:11517-1724112000-1724371199@gbc1.net
SUMMARY:19th India-Africa Business Conclave
DESCRIPTION:Creating ONE Future
URL:https://gbc1.net/index.php/event/19th-india-africa-business-conclave/
CATEGORIES:AfricaX
ATTACH;FMTTYPE=image/jpeg:https://gbc1.net/wp-content/uploads/2024/05/Banner-01b-jpg.webp
END:VEVENT
END:VCALENDAR