BEGIN:VCALENDAR
VERSION:2.0
PRODID:-//Global Business Council (GBC) - ECPv6.0.11//NONSGML v1.0//EN
CALSCALE:GREGORIAN
METHOD:PUBLISH
X-ORIGINAL-URL:https://gbc1.net
X-WR-CALDESC:Events for Global Business Council (GBC)
REFRESH-INTERVAL;VALUE=DURATION:PT1H
X-Robots-Tag:noindex
X-PUBLISHED-TTL:PT1H
BEGIN:VTIMEZONE
TZID:UTC
BEGIN:STANDARD
TZOFFSETFROM:+0000
TZOFFSETTO:+0000
TZNAME:UTC
DTSTART:20240101T000000
END:STANDARD
END:VTIMEZONE
BEGIN:VEVENT
DTSTART;TZID=UTC:20240901T000000
DTEND;TZID=UTC:20240903T235959
DTSTAMP:20260422T045740
CREATED:20240719T130331Z
LAST-MODIFIED:20240915T130816Z
UID:13896-1725148800-1725407999@gbc1.net
SUMMARY:2nd Indonesia-Africa Forum (IAF)
DESCRIPTION:Bandung Spirit for Africa’s Agenda 2063
URL:https://gbc1.net/index.php/event/2nd-indonesia-africa-forum-iaf/
CATEGORIES:AfricaX
ATTACH;FMTTYPE=image/jpeg:https://gbc1.net/wp-content/uploads/2024/09/IAF-BW-jpg.webp
END:VEVENT
BEGIN:VEVENT
DTSTART;TZID=UTC:20240904T000000
DTEND;TZID=UTC:20240906T235959
DTSTAMP:20260422T045740
CREATED:20240530T042229Z
LAST-MODIFIED:20240730T062758Z
UID:11824-1725408000-1725667199@gbc1.net
SUMMARY:9th FOCAC Summit 2024
DESCRIPTION:Joining Hands to Advance Modernization and Build a High-Level China-Africa Community with a Shared Future
URL:https://gbc1.net/index.php/event/9th-focac-summit-2024/
CATEGORIES:AfricaX
ATTACH;FMTTYPE=image/jpeg:https://gbc1.net/wp-content/uploads/2024/05/FOCAC-Bannner-b-jpg.webp
END:VEVENT
END:VCALENDAR