BEGIN:VCALENDAR
VERSION:2.0
PRODID:-//Global Business Council (GBC) - ECPv6.0.11//NONSGML v1.0//EN
CALSCALE:GREGORIAN
METHOD:PUBLISH
X-ORIGINAL-URL:https://gbc1.net
X-WR-CALDESC:Events for Global Business Council (GBC)
REFRESH-INTERVAL;VALUE=DURATION:PT1H
X-Robots-Tag:noindex
X-PUBLISHED-TTL:PT1H
BEGIN:VTIMEZONE
TZID:Asia/Dubai
BEGIN:STANDARD
TZOFFSETFROM:+0400
TZOFFSETTO:+0400
TZNAME:+04
DTSTART:20240101T000000
END:STANDARD
END:VTIMEZONE
BEGIN:VEVENT
DTSTART;TZID=Asia/Dubai:20241119T000000
DTEND;TZID=Asia/Dubai:20241122T235959
DTSTAMP:20260422T014535
CREATED:20240925T061736Z
LAST-MODIFIED:20240925T062022Z
UID:13953-1731974400-1732319999@gbc1.net
SUMMARY:6th Ambition Africa 2024
DESCRIPTION:
URL:https://gbc1.net/index.php/event/6th-ambition-africa-2024/
CATEGORIES:AfricaX
ATTACH;FMTTYPE=image/jpeg:https://gbc1.net/wp-content/uploads/2024/09/AA-Bb-jpg.webp
END:VEVENT
END:VCALENDAR