BEGIN:VCALENDAR
VERSION:2.0
PRODID:-//Global Business Council (GBC) - ECPv6.0.11//NONSGML v1.0//EN
CALSCALE:GREGORIAN
METHOD:PUBLISH
X-WR-CALNAME:Global Business Council (GBC)
X-ORIGINAL-URL:https://gbc1.net
X-WR-CALDESC:Events for Global Business Council (GBC)
REFRESH-INTERVAL;VALUE=DURATION:PT1H
X-Robots-Tag:noindex
X-PUBLISHED-TTL:PT1H
BEGIN:VTIMEZONE
TZID:Asia/Dubai
BEGIN:STANDARD
TZOFFSETFROM:+0400
TZOFFSETTO:+0400
TZNAME:+04
DTSTART:20250101T000000
END:STANDARD
END:VTIMEZONE
BEGIN:VEVENT
DTSTART;TZID=Asia/Dubai:20251105T000000
DTEND;TZID=Asia/Dubai:20251105T235959
DTSTAMP:20260421T062218
CREATED:20251005T085156Z
LAST-MODIFIED:20251005T085336Z
UID:27020-1762300800-1762387199@gbc1.net
SUMMARY:AfBC UK-Africa Trade & Invest Forum 2025
DESCRIPTION:
URL:https://gbc1.net/index.php/event/afbc-uk-africa-trade-invest-forum-2025/
CATEGORIES:AfricaX
ATTACH;FMTTYPE=image/jpeg:https://gbc1.net/wp-content/uploads/2025/10/AfBC-W-jpg.webp
END:VEVENT
BEGIN:VEVENT
DTSTART;TZID=Asia/Dubai:20251112T000000
DTEND;TZID=Asia/Dubai:20251113T235959
DTSTAMP:20260421T062218
CREATED:20251005T084945Z
LAST-MODIFIED:20251117T194740Z
UID:27015-1762905600-1763078399@gbc1.net
SUMMARY:4th UK Francophone West & Central Africa Trade and Investment Forum (WCAF) 2025
DESCRIPTION:Success Breeds Success
URL:https://gbc1.net/index.php/event/4th-uk-francophone-west-central-africa-trade-and-investment-forum-wcaf-2025/
CATEGORIES:AfricaX
ATTACH;FMTTYPE=image/jpeg:https://gbc1.net/wp-content/uploads/2025/10/WCAF-W-jpg.webp
END:VEVENT
BEGIN:VEVENT
DTSTART;TZID=Asia/Dubai:20251124T000000
DTEND;TZID=Asia/Dubai:20251125T235959
DTSTAMP:20260421T062218
CREATED:20251111T025942Z
LAST-MODIFIED:20251111T032405Z
UID:28370-1763942400-1764115199@gbc1.net
SUMMARY:AU-EU Business Forum 2025
DESCRIPTION:The Africa We Want and Global Gateway
URL:https://gbc1.net/index.php/event/au-eu-business-forum-2025/
CATEGORIES:AfricaX
ATTACH;FMTTYPE=image/jpeg:https://gbc1.net/wp-content/uploads/2025/11/AUEU-b-jpg.webp
END:VEVENT
BEGIN:VEVENT
DTSTART;TZID=Asia/Dubai:20251124T000000
DTEND;TZID=Asia/Dubai:20251125T235959
DTSTAMP:20260421T062218
CREATED:20251111T032543Z
LAST-MODIFIED:20251111T032908Z
UID:28382-1763942400-1764115199@gbc1.net
SUMMARY:7th AU-EU Summit 2025
DESCRIPTION:Toward the Joint AU-EU Vision 2030
URL:https://gbc1.net/index.php/event/7th-au-eu-summit-2025/
CATEGORIES:AfricaX
ATTACH;FMTTYPE=image/jpeg:https://gbc1.net/wp-content/uploads/2025/11/AUEU-Summit-b-jpg.webp
END:VEVENT
BEGIN:VEVENT
DTSTART;TZID=Asia/Dubai:20251127T150000
DTEND;TZID=Asia/Dubai:20251127T180000
DTSTAMP:20260421T062218
CREATED:20251019T082225Z
LAST-MODIFIED:20251126T052212Z
UID:27498-1764255600-1764266400@gbc1.net
SUMMARY:24th OECD International Economic Forum on Africa 2025
DESCRIPTION:Investing in Africa’s Infrastructure for Global Development
URL:https://gbc1.net/index.php/event/24th-oecd-international-economic-forum-on-africa-2025/
CATEGORIES:AfricaX
ATTACH;FMTTYPE=image/jpeg:https://gbc1.net/wp-content/uploads/2025/10/OECD-pb-jpg.webp
END:VEVENT
END:VCALENDAR