BEGIN:VCALENDAR
VERSION:2.0
PRODID:-//Global Business Council (GBC) - ECPv6.0.11//NONSGML v1.0//EN
CALSCALE:GREGORIAN
METHOD:PUBLISH
X-ORIGINAL-URL:https://gbc1.net
X-WR-CALDESC:Events for Global Business Council (GBC)
REFRESH-INTERVAL;VALUE=DURATION:PT1H
X-Robots-Tag:noindex
X-PUBLISHED-TTL:PT1H
BEGIN:VTIMEZONE
TZID:UTC
BEGIN:STANDARD
TZOFFSETFROM:+0000
TZOFFSETTO:+0000
TZNAME:UTC
DTSTART:20230101T000000
END:STANDARD
END:VTIMEZONE
BEGIN:VEVENT
DTSTART;TZID=UTC:20230721T000000
DTEND;TZID=UTC:20230722T235959
DTSTAMP:20260423T044023
CREATED:20230525T134354Z
LAST-MODIFIED:20231103T073701Z
UID:3024-1689897600-1690070399@gbc1.net
SUMMARY:3rd India-Africa Entrepreneurship and Investment Summit
DESCRIPTION:
URL:https://gbc1.net/index.php/event/3rd-india-africa-entrepreneurship-and-investment-summit/
CATEGORIES:AfricaX
ATTACH;FMTTYPE=image/jpeg:https://gbc1.net/wp-content/uploads/2023/05/IAEIS2023-b-500x400-1-jpg.webp
END:VEVENT
END:VCALENDAR