BEGIN:VCALENDAR
VERSION:2.0
PRODID:-//Global Business Council (GBC) - ECPv6.0.11//NONSGML v1.0//EN
CALSCALE:GREGORIAN
METHOD:PUBLISH
X-ORIGINAL-URL:https://gbc1.net
X-WR-CALDESC:Events for Global Business Council (GBC)
REFRESH-INTERVAL;VALUE=DURATION:PT1H
X-Robots-Tag:noindex
X-PUBLISHED-TTL:PT1H
BEGIN:VTIMEZONE
TZID:UTC
BEGIN:STANDARD
TZOFFSETFROM:+0000
TZOFFSETTO:+0000
TZNAME:UTC
DTSTART:20240101T000000
END:STANDARD
END:VTIMEZONE
BEGIN:VEVENT
DTSTART;TZID=UTC:20240506T000000
DTEND;TZID=UTC:20240509T235959
DTSTAMP:20260422T125607
CREATED:20231103T013913Z
LAST-MODIFIED:20240321T013206Z
UID:7299-1714953600-1715299199@gbc1.net
SUMMARY:16th US-Africa Business Summit
DESCRIPTION:Partnering for Sustainable Success
URL:https://gbc1.net/index.php/event/16th-us-africa-business-summit/
CATEGORIES:AfricaX
ATTACH;FMTTYPE=image/jpeg:https://gbc1.net/wp-content/uploads/2024/03/USABS-500x300-1-jpg.webp
END:VEVENT
END:VCALENDAR