BEGIN:VCALENDAR
VERSION:2.0
PRODID:-//Global Business Council (GBC) - ECPv6.0.11//NONSGML v1.0//EN
CALSCALE:GREGORIAN
METHOD:PUBLISH
X-ORIGINAL-URL:https://gbc1.net
X-WR-CALDESC:Events for Global Business Council (GBC)
REFRESH-INTERVAL;VALUE=DURATION:PT1H
X-Robots-Tag:noindex
X-PUBLISHED-TTL:PT1H
BEGIN:VTIMEZONE
TZID:UTC
BEGIN:STANDARD
TZOFFSETFROM:+0000
TZOFFSETTO:+0000
TZNAME:UTC
DTSTART:20240101T000000
END:STANDARD
END:VTIMEZONE
BEGIN:VEVENT
DTSTART;TZID=UTC:20240715T000000
DTEND;TZID=UTC:20240716T235959
DTSTAMP:20260422T094307
CREATED:20240603T023600Z
LAST-MODIFIED:20240719T025212Z
UID:12929-1721001600-1721174399@gbc1.net
SUMMARY:7th EurAfrican Forum 2024
DESCRIPTION:Africa: The Next Chapter\, Partnering for Growth
URL:https://gbc1.net/index.php/event/7th-eurafrican-forum-2024/
CATEGORIES:AfricaX
ATTACH;FMTTYPE=image/jpeg:https://gbc1.net/wp-content/uploads/2024/07/Banner-01W-1-jpg.webp
END:VEVENT
END:VCALENDAR