BEGIN:VCALENDAR
VERSION:2.0
PRODID:-//Global Business Council (GBC) - ECPv6.0.11//NONSGML v1.0//EN
CALSCALE:GREGORIAN
METHOD:PUBLISH
X-WR-CALNAME:Global Business Council (GBC)
X-ORIGINAL-URL:https://gbc1.net
X-WR-CALDESC:Events for Global Business Council (GBC)
REFRESH-INTERVAL;VALUE=DURATION:PT1H
X-Robots-Tag:noindex
X-PUBLISHED-TTL:PT1H
BEGIN:VTIMEZONE
TZID:UTC
BEGIN:STANDARD
TZOFFSETFROM:+0000
TZOFFSETTO:+0000
TZNAME:UTC
DTSTART:20240101T000000
END:STANDARD
END:VTIMEZONE
BEGIN:VEVENT
DTSTART;TZID=UTC:20240724T000000
DTEND;TZID=UTC:20240726T235959
DTSTAMP:20260422T094139
CREATED:20240716T004155Z
LAST-MODIFIED:20240726T142518Z
UID:13029-1721779200-1722038399@gbc1.net
SUMMARY:21st AGOA Forum
DESCRIPTION:Beyond 2025: Reimagining AGOA for an Inclusive\, Sustainable and Prosperous Tomorrow
URL:https://gbc1.net/index.php/event/21st-agoa-forum/
CATEGORIES:AfricaX
ATTACH;FMTTYPE=image/jpeg:https://gbc1.net/wp-content/uploads/2024/07/AGOA-01b-jpg.webp
END:VEVENT
END:VCALENDAR