BEGIN:VCALENDAR
VERSION:2.0
PRODID:-//Global Business Council (GBC) - ECPv6.0.11//NONSGML v1.0//EN
CALSCALE:GREGORIAN
METHOD:PUBLISH
X-WR-CALNAME:Global Business Council (GBC)
X-ORIGINAL-URL:https://gbc1.net
X-WR-CALDESC:Events for Global Business Council (GBC)
REFRESH-INTERVAL;VALUE=DURATION:PT1H
X-Robots-Tag:noindex
X-PUBLISHED-TTL:PT1H
BEGIN:VTIMEZONE
TZID:Asia/Dubai
BEGIN:STANDARD
TZOFFSETFROM:+0400
TZOFFSETTO:+0400
TZNAME:+04
DTSTART:20250101T000000
END:STANDARD
END:VTIMEZONE
BEGIN:VEVENT
DTSTART;TZID=Asia/Dubai:20250411T000000
DTEND;TZID=Asia/Dubai:20250412T235959
DTSTAMP:20260421T193142
CREATED:20250331T154200Z
LAST-MODIFIED:20260420T154422Z
UID:34606-1744329600-1744502399@gbc1.net
SUMMARY:16th Harvard Africa Development Conference 2025
DESCRIPTION:Africa by 2040: The Fate of African Youth
URL:https://gbc1.net/index.php/event/16th-harvard-africa-development-conference-2025/
CATEGORIES:AfricaX
ATTACH;FMTTYPE=image/jpeg:https://gbc1.net/wp-content/uploads/2026/04/ADC-2025-jpg.webp
END:VEVENT
END:VCALENDAR