BEGIN:VCALENDAR
VERSION:2.0
PRODID:-//Global Business Council (GBC) - ECPv6.0.11//NONSGML v1.0//EN
CALSCALE:GREGORIAN
METHOD:PUBLISH
X-ORIGINAL-URL:https://gbc1.net
X-WR-CALDESC:Events for Global Business Council (GBC)
REFRESH-INTERVAL;VALUE=DURATION:PT1H
X-Robots-Tag:noindex
X-PUBLISHED-TTL:PT1H
BEGIN:VTIMEZONE
TZID:Asia/Dubai
BEGIN:STANDARD
TZOFFSETFROM:+0400
TZOFFSETTO:+0400
TZNAME:+04
DTSTART:20250101T000000
END:STANDARD
END:VTIMEZONE
BEGIN:VEVENT
DTSTART;TZID=Asia/Dubai:20250610T000000
DTEND;TZID=Asia/Dubai:20250612T235959
DTSTAMP:20260421T161346
CREATED:20250606T105337Z
LAST-MODIFIED:20250606T105755Z
UID:22878-1749513600-1749772799@gbc1.net
SUMMARY:FOCAC Ministerial Conference 2025
DESCRIPTION:
URL:https://gbc1.net/index.php/event/focac-ministerial-conference-2025/
CATEGORIES:AfricaX
ATTACH;FMTTYPE=image/jpeg:https://gbc1.net/wp-content/uploads/2025/06/B-1-jpg.webp
END:VEVENT
BEGIN:VEVENT
DTSTART;TZID=Asia/Dubai:20250612T000000
DTEND;TZID=Asia/Dubai:20250615T235959
DTSTAMP:20260421T161346
CREATED:20250111T043108Z
LAST-MODIFIED:20250523T091505Z
UID:17183-1749686400-1750031999@gbc1.net
SUMMARY:4th China-Africa Economic and Trade Expo (CAETE)
DESCRIPTION:China and Africa: Together Toward Modernization
URL:https://gbc1.net/index.php/event/4th-china-africa-economic-and-trade-expo-caete/
CATEGORIES:AfricaX
ATTACH;FMTTYPE=image/jpeg:https://gbc1.net/wp-content/uploads/2025/05/Banner-01W-1-jpg.webp
END:VEVENT
END:VCALENDAR