BEGIN:VCALENDAR
VERSION:2.0
PRODID:-//Global Business Council (GBC) - ECPv6.0.11//NONSGML v1.0//EN
CALSCALE:GREGORIAN
METHOD:PUBLISH
X-WR-CALNAME:Global Business Council (GBC)
X-ORIGINAL-URL:https://gbc1.net
X-WR-CALDESC:Events for Global Business Council (GBC)
REFRESH-INTERVAL;VALUE=DURATION:PT1H
X-Robots-Tag:noindex
X-PUBLISHED-TTL:PT1H
BEGIN:VTIMEZONE
TZID:Asia/Dubai
BEGIN:STANDARD
TZOFFSETFROM:+0400
TZOFFSETTO:+0400
TZNAME:+04
DTSTART:20250101T000000
END:STANDARD
END:VTIMEZONE
BEGIN:VEVENT
DTSTART;TZID=Asia/Dubai:20250620T000000
DTEND;TZID=Asia/Dubai:20250620T235959
DTSTAMP:20260421T161034
CREATED:20250608T074500Z
LAST-MODIFIED:20250708T075119Z
UID:23340-1750377600-1750463999@gbc1.net
SUMMARY:Mattei Plan and Global Gateway for Africa Summit 2025
DESCRIPTION:A Common Effort with the African Continent
URL:https://gbc1.net/index.php/event/mattei-plan-and-global-gateway-for-africa-summit-2025/
CATEGORIES:AfricaX
ATTACH;FMTTYPE=image/jpeg:https://gbc1.net/wp-content/uploads/2025/07/Mattei-02b-jpg.webp
END:VEVENT
END:VCALENDAR