BEGIN:VCALENDAR
VERSION:2.0
PRODID:-//Global Business Council (GBC) - ECPv6.0.11//NONSGML v1.0//EN
CALSCALE:GREGORIAN
METHOD:PUBLISH
X-WR-CALNAME:Global Business Council (GBC)
X-ORIGINAL-URL:https://gbc1.net
X-WR-CALDESC:Events for Global Business Council (GBC)
REFRESH-INTERVAL;VALUE=DURATION:PT1H
X-Robots-Tag:noindex
X-PUBLISHED-TTL:PT1H
BEGIN:VTIMEZONE
TZID:Asia/Dubai
BEGIN:STANDARD
TZOFFSETFROM:+0400
TZOFFSETTO:+0400
TZNAME:+04
DTSTART:20250101T000000
END:STANDARD
END:VTIMEZONE
BEGIN:VEVENT
DTSTART;TZID=Asia/Dubai:20250622T000000
DTEND;TZID=Asia/Dubai:20250625T235959
DTSTAMP:20260421T161222
CREATED:20250221T085033Z
LAST-MODIFIED:20250430T125914Z
UID:18805-1750550400-1750895999@gbc1.net
SUMMARY:US-Africa Business Summit (UABS) 2025
DESCRIPTION:Pathways to Prosperity: A Shared Vision for US-Africa Partnership
URL:https://gbc1.net/index.php/event/us-africa-business-summit-uabs-2025/
CATEGORIES:AfricaX
ATTACH;FMTTYPE=image/jpeg:https://gbc1.net/wp-content/uploads/2025/02/Banner-01w-jpg.webp
END:VEVENT
END:VCALENDAR